BEGIN:VCALENDAR
METHOD:PUBLISH
PRODID:-//LogicWorks GmbH//NONSGML Contentory//EN
VERSION:2.0
BEGIN:VEVENT
DTSTAMP:20260425T122713Z
SUMMARY:Power-to-X-Sommerwerkstatt für MINT-Talente
DESCRIPTION:Die P2X Sommerwerkstatt geht in die dritte Runde: Vom 9. bis 12. Juni 2022
  laden der WWF Deutschland\, der DECHEMA e.V. und die Dr. Hans-Riegel-Stif
 tung Studierende ein\, ihr Wissen über Power-to-X-Technologien zu vertief
 en. Schwerpunkt dieses Jahr: PtX-Anwendungen in der Stahlindustrie.
LOCATION:Duisburg
CREATED:20220420T153805
LAST-MODIFIED:20220420T153805
DTSTART;VALUE=DATE:20220609T090000
DTEND;VALUE=DATE:20220612T180000
UID:sn_266@logic-works.net
END:VEVENT
END:VCALENDAR