BEGIN:VCALENDAR
METHOD:PUBLISH
PRODID:-//LogicWorks GmbH//NONSGML Contentory//EN
VERSION:2.0
BEGIN:VEVENT
DTSTAMP:20260423T153653Z
SUMMARY:P2X Statusseminar 2021
DESCRIPTION:Das Kopernikus-Projekt P2X informiert über seine neuesten Ergebnisse\, Zw
 ischenstände und Forschungsfelder. 
LOCATION:Online-Veranstaltung
CREATED:20210118T140554
LAST-MODIFIED:20210118T141053
DTSTART;VALUE=DATE:20210203T090000
DTEND;VALUE=DATE:20210203T130000
UID:sn_168@logic-works.net
END:VEVENT
END:VCALENDAR