BEGIN:VCALENDAR
METHOD:PUBLISH
PRODID:-//LogicWorks GmbH//NONSGML Contentory//EN
VERSION:2.0
BEGIN:VEVENT
DTSTAMP:20260423T153530Z
SUMMARY:Power-to-what? Power-to-X: Launch der WWF-Bildungsangebote
DESCRIPTION:Im Rahmen des Kopernikus-Projekts P2X hat Projektpartner WWF Deutschland z
 wei Bildungsangebote entwickelt: eine „Virtual Reality Experience“ und
  ein digitales Lernmodul. Sie werden im Rahmen einer hybriden Veranstaltun
 g vorgestellt. Vor Ort im Fraunhofer ENIQ in Berlin kommen etwa 80 Persone
 n zusammen\, unter ihnen Medienschaffende\, Projektbeteiligte\, Fachleute 
 aus Politik und Wissenschaft. Alle Interessierten können den Kernteil des
  Events aber auch via Live-Stream verfolgen.
LOCATION:Fraunhofer ENIQ und Online
CREATED:20221010T124949
LAST-MODIFIED:20221019T171125
DTSTART;VALUE=DATE:20221115T153000
DTEND;VALUE=DATE:20221115T200000
UID:sn_305@logic-works.net
END:VEVENT
END:VCALENDAR