BEGIN:VCALENDAR
METHOD:PUBLISH
PRODID:-//LogicWorks GmbH//NONSGML Contentory//EN
VERSION:2.0
BEGIN:VEVENT
DTSTAMP:20260425T122335Z
SUMMARY:Workshop: Nachhaltigkeitskriterien für den Import Grünen Wasserstoffs 
DESCRIPTION:Online-Workshop des BUND und des WWF Deutschland im Rahmen des Kopernikus-
 Projekts P2X und der Berliner Energietage zur Frage der Zertifizierung von
  klimafreundlichem Wasserstoff. 
LOCATION:Online
CREATED:20220420T144933
LAST-MODIFIED:20220420T144933
DTSTART;VALUE=DATE:20220506T140000
DTEND;VALUE=DATE:20220506T153000
UID:sn_265@logic-works.net
END:VEVENT
END:VCALENDAR