BEGIN:VCALENDAR
METHOD:PUBLISH
PRODID:-//LogicWorks GmbH//NONSGML Contentory//EN
VERSION:2.0
BEGIN:VEVENT
DTSTAMP:20260423T153340Z
SUMMARY:Workshop: Start-ups in der Wasserstoffwirtschaft – Chancen und Herausfo
 rderungen
DESCRIPTION:Die Wasserstoffwirtschaft wird kommen\, daran gibt es wenig Zweifel unter 
 den Stakeholdern in der Politik\, Wirtschaft\, Wissenschaft und zivilgesel
 lschaftlichen Organisationen.
LOCATION:Online
CREATED:20220824T095716
LAST-MODIFIED:20220824T100831
DTSTART;VALUE=DATE:20220829T160000
DTEND;VALUE=DATE:20220829T173000
UID:sn_284@logic-works.net
END:VEVENT
END:VCALENDAR