BEGIN:VCALENDAR
METHOD:PUBLISH
PRODID:-//LogicWorks GmbH//NONSGML Contentory//EN
VERSION:2.0
BEGIN:VEVENT
DTSTAMP:20260423T153751Z
SUMMARY:Power2Change: Energiemobil unterwegs
DESCRIPTION:Das Energiemobil ist wieder unterwegs. Es bildet gewissermaßen die Vorhut
  der Ausstellung Power2Change\, die ab dem 18. Januar 2023 für sechs Mona
 te an ihrer zweiten Station im Klimahaus Bremerhaven zu sehen sein wird. A
 uch für später sind weitere Termine geplant\, zu denen das Energiemobil 
 zu den Menschen kommt\, damit sie ihre Meinung und gute Ideen für die Ene
 rgiewende einbringen.
LOCATION:Delmenhorst und weitere
CREATED:20221219T171206
LAST-MODIFIED:20221223T134145
DTSTART;VALUE=DATE:20221220T000000
DTEND;VALUE=DATE:20230117T235959
UID:sn_335@logic-works.net
END:VEVENT
END:VCALENDAR