BEGIN:VCALENDAR
METHOD:PUBLISH
PRODID:-//LogicWorks GmbH//NONSGML Contentory//EN
VERSION:2.0
BEGIN:VEVENT
DTSTAMP:20260423T171909Z
SUMMARY:Science Watch Party: „Power to Change - die EnergieRebellion“
DESCRIPTION:Filmvorführung zur deutschen Energiewende mit anschließender Diskussion
LOCATION:LWL-Industriemuseum Henrichshütte
CREATED:20221004T154350
LAST-MODIFIED:20221006T092745
DTSTART;VALUE=DATE:20221202T180000
DTEND;VALUE=DATE:20221202T203000
UID:sn_302@logic-works.net
END:VEVENT
END:VCALENDAR