BEGIN:VCALENDAR
METHOD:PUBLISH
PRODID:-//LogicWorks GmbH//NONSGML Contentory//EN
VERSION:2.0
BEGIN:VEVENT
DTSTAMP:20260423T035810Z
SUMMARY:Power2Change: Science Bench Verkehrswende
DESCRIPTION:Bevor die Wanderausstellung „Power2Change“ weiterzieht\, lädt ihr Rah
 menprogramm noch zu einem ungewöhnlichen Event: Auf der Science Bench neh
 men unter freiem Himmel Forschende Platz und beantworten Fragen. Die Veran
 staltung begleitet die Ausstellung im Klimahaus Bremerhaven (bis 18. Juni 
 2023).
LOCATION:Outdoor
CREATED:20230316T174117
LAST-MODIFIED:20230317T074904
DTSTART;VALUE=DATE:20230610T170000
DTEND;VALUE=DATE:20230610T200000
UID:sn_365@logic-works.net
END:VEVENT
END:VCALENDAR