BEGIN:VCALENDAR
METHOD:PUBLISH
PRODID:-//LogicWorks GmbH//NONSGML Contentory//EN
VERSION:2.0
BEGIN:VEVENT
DTSTAMP:20260423T130619Z
SUMMARY:Technologiecafé – Sind wir bereit für die Energiewende?
DESCRIPTION:Welche Technologien braucht es für die Energiewende in der Industrie und 
 im Verkehr? Im Rahmen der Ausstellung „Power2Change" wird in Form eines 
 Technologiecafés zu Austausch und Diskussion über diese und weitere Frag
 en mit Christoph Kost (Fraunhofer ISE) und diversen Ausstellenden geladen.
LOCATION:LWL-Industriemuseum Henrichshütte
CREATED:20221004T120149
LAST-MODIFIED:20221006T093055
DTSTART;VALUE=DATE:20221014T170000
DTEND;VALUE=DATE:20221014T190000
UID:sn_297@logic-works.net
END:VEVENT
END:VCALENDAR