BEGIN:VCALENDAR
METHOD:PUBLISH
PRODID:-//LogicWorks GmbH//NONSGML Contentory//EN
VERSION:2.0
BEGIN:VEVENT
DTSTAMP:20260423T172605Z
SUMMARY:Power2Change: Mitmachdebatte beim Silbersalz Festival
DESCRIPTION:Im Rahmen des „Science & Media Festival Silbersalz“ lädt die Wanderau
 sstellung Power2Change zur Diskussion darüber\, wie wir die Energiewende
  sozial und nachhaltig gestalten können.
LOCATION:Nationale Akademie der Wissenschaften Leopoldina
CREATED:20251013T110320
LAST-MODIFIED:20251013T112056
DTSTART;VALUE=DATE:20251031T180000
DTEND;VALUE=DATE:20251031T220000
UID:sn_797@logic-works.net
END:VEVENT
END:VCALENDAR