BEGIN:VCALENDAR
METHOD:PUBLISH
PRODID:-//LogicWorks GmbH//NONSGML Contentory//EN
VERSION:2.0
BEGIN:VEVENT
DTSTAMP:20260423T154119Z
SUMMARY:Kopernikus-Presseclub: Ist die Energieversorgung resilient genug?
DESCRIPTION:Risikofaktoren\, Resilienz und Zukunftsfähigkeit: Diese Aspekte der Energ
 iewende stehen im Fokus der neuen Ausgabe des Kopernikus-Presseclubs.
LOCATION:online
CREATED:20250903T105207
LAST-MODIFIED:20250905T080742
DTSTART;VALUE=DATE:20250918T110000
DTEND;VALUE=DATE:20250918T120000
UID:sn_748@logic-works.net
END:VEVENT
END:VCALENDAR