BEGIN:VCALENDAR
METHOD:PUBLISH
PRODID:-//LogicWorks GmbH//NONSGML Contentory//EN
VERSION:2.0
BEGIN:VEVENT
DTSTAMP:20260423T130602Z
SUMMARY:Ringvorlesung: Szenarien der Dekarbonisierung
DESCRIPTION:Die diesjährige Ringvorlesung Technik- und Umweltethik (TUE) der Hochschu
 le Bonn-Rhein-Sieg kreist um das Thema „Energieversorgung nachhaltig ges
 talten“. In den interaktiven Vorlesungen werden Ideen für gegenwärtige
 s Handeln und zukünftige Konzepte einer nachhaltigen Energieversorgung di
 skutiert. Die Auftakvorlesung über Möglichkeiten der CO2-Reduktion hält
  Polina Emelianova von ENSURE.
LOCATION:Hochschule Bonn-Rhein-Sieg
CREATED:20230403T140825
LAST-MODIFIED:20230403T153330
DTSTART;VALUE=DATE:20230406T181500
DTEND;VALUE=DATE:20230406T194500
UID:sn_367@logic-works.net
END:VEVENT
END:VCALENDAR