BEGIN:VCALENDAR
METHOD:PUBLISH
PRODID:-//LogicWorks GmbH//NONSGML Contentory//EN
VERSION:2.0
BEGIN:VEVENT
DTSTAMP:20260423T154334Z
SUMMARY:ENSURE bei der RWTH-Wissenschaftsnacht „5 vor 12“
DESCRIPTION:ENSURE ist mit der Modell-Darstellung seines Arbeitsbereichs zu Gast bei d
 er RWTH-Wissenschaftsnacht.
LOCATION:Hörsaalzentrum C.A.R.L. der RWTH Aachen
CREATED:20231013T110525
LAST-MODIFIED:20231110T170943
DTSTART;VALUE=DATE:20231110T190000
DTEND;VALUE=DATE:20231110T235959
UID:sn_422@logic-works.net
END:VEVENT
END:VCALENDAR