BEGIN:VCALENDAR
METHOD:PUBLISH
PRODID:-//LogicWorks GmbH//NONSGML Contentory//EN
VERSION:2.0
BEGIN:VEVENT
DTSTAMP:20260423T153616Z
SUMMARY:Power2Change: Science Festival
DESCRIPTION:Das Science Festival vereint für einen Tag Wissenschaft\, Kunst\, Musik u
 nd Kulinarik miteinander.
LOCATION:Bunter Bahnhof
CREATED:20240508T155133
LAST-MODIFIED:20240508T161203
DTSTART;VALUE=DATE:20240511T150000
DTEND;VALUE=DATE:20240511T210000
UID:sn_478@logic-works.net
END:VEVENT
END:VCALENDAR