BEGIN:VCALENDAR
METHOD:PUBLISH
PRODID:-//LogicWorks GmbH//NONSGML Contentory//EN
VERSION:2.0
BEGIN:VEVENT
DTSTAMP:20260423T130323Z
SUMMARY:6. Kopernikus-Pressevormittag: „Der Winter kommt - sind wir vorbereitet?
 “
DESCRIPTION:Digitale Veranstaltung | Exklusives Hintergrundwissen von hochrangigen Ene
 rgie-Experten Industrie-\, Forschungs- und Stromnetzexperten diskutieren e
 xklusiv mit JournalistInnen\r\n 
LOCATION:Online
CREATED:20221104T092558
LAST-MODIFIED:20221104T100006
DTSTART;VALUE=DATE:20221110T080000
DTEND;VALUE=DATE:20221110T090000
UID:sn_325@logic-works.net
END:VEVENT
END:VCALENDAR