BEGIN:VCALENDAR
METHOD:PUBLISH
PRODID:-//LogicWorks GmbH//NONSGML Contentory//EN
VERSION:2.0
BEGIN:VEVENT
DTSTAMP:20260423T153823Z
SUMMARY:7. Kopernikus-Pressevormittag: „Die Zinsen steigen - wie finanzieren wir
  die Energiewende? “
DESCRIPTION:Digitale Veranstaltung | Exklusives Hintergrundwissen von hochrangigen Fac
 hleuten für den Bereich Energie Menschen mit Expertise zu Stromnetzen sow
 ie Themen aus Industrie und Forschung diskutieren exklusiv mit Journalisti
 nnen und Journalisten\r\n 
LOCATION:Online
CREATED:20230427T170618
LAST-MODIFIED:20230427T171053
DTSTART;VALUE=DATE:20230508T090000
DTEND;VALUE=DATE:20230508T100000
UID:sn_380@logic-works.net
END:VEVENT
END:VCALENDAR