BEGIN:VCALENDAR
METHOD:PUBLISH
PRODID:-//LogicWorks GmbH//NONSGML Contentory//EN
VERSION:2.0
BEGIN:VEVENT
DTSTAMP:20260423T171836Z
SUMMARY:Kopernikus-Projekte beim Silbersalz-Festival
DESCRIPTION:Auf dem „Science & Media Festival Silbersalz“ präsentieren sich die K
 opernikus-Projekte mit einem ganz neuen Dialogformat. der Babbel Bubble. B
 ei dem einzigartigen Ansatz trifft Neugier auf Expertise.
LOCATION:Marktplatz Halle (Saale)
CREATED:20250917T143421
LAST-MODIFIED:20251029T135107
DTSTART;VALUE=DATE:20251031T000000
DTEND;VALUE=DATE:20251102T235959
UID:sn_754@logic-works.net
END:VEVENT
END:VCALENDAR