BEGIN:VCALENDAR
METHOD:PUBLISH
PRODID:-//LogicWorks GmbH//NONSGML Contentory//EN
VERSION:2.0
BEGIN:VEVENT
DTSTAMP:20260423T154308Z
SUMMARY:SynErgie bei den Berliner Energietagen 2024
DESCRIPTION:Welche Chancen und Herausforderungen bietet der Einsatz einer Plattform zu
 r automatisierten Vermarktung von Energieflexibilität für die Industrie?
  Diese Frage diskutiert SynErgie bei den Berliner Energietagen. Gemeinsam 
 mit Projektpartnern aus Industrie und Wissenschaft zeigt das Kopernikus-Pr
 ojekt Lösungen auf.
LOCATION:Online
CREATED:20240311T131355
LAST-MODIFIED:20240408T145759
DTSTART;VALUE=DATE:20240417T123000
DTEND;VALUE=DATE:20240417T140000
UID:sn_452@logic-works.net
END:VEVENT
END:VCALENDAR