BEGIN:VCALENDAR
METHOD:PUBLISH
PRODID:-//LogicWorks GmbH//NONSGML Contentory//EN
VERSION:2.0
BEGIN:VEVENT
DTSTAMP:20260423T153945Z
SUMMARY:SynErgie: FONA Forum 2022: Session zu Energieflexibilität
DESCRIPTION:Auf dem FONA Forum des Bundesforschungsministeriums widmet sich das Kopern
 ikus-Projekt SynErgie der Frage\, wie mittelständische Unternehmen gewinn
 bringend ihre Stromnachfrage an das Stromangebot im Netz anpassen können.
  
LOCATION:Online
CREATED:20220420T154843
LAST-MODIFIED:20220420T154843
DTSTART;VALUE=DATE:20220510T100000
DTEND;VALUE=DATE:20220510T160000
UID:sn_267@logic-works.net
END:VEVENT
END:VCALENDAR