BEGIN:VCALENDAR
METHOD:PUBLISH
PRODID:-//LogicWorks GmbH//NONSGML Contentory//EN
VERSION:2.0
BEGIN:VEVENT
DTSTAMP:20260425T122644Z
SUMMARY:SynErgie: Workshop zur Energieflexibilität in der Produktion
DESCRIPTION:In Kooperation mit dem Kopernikus-Projekt SynErgie lädt die ETA-Fabrik d
 er TU Darmstadt zu einem Workshop samt Fabrikführung und praktischer Masc
 hinenanwendung.
LOCATION:ETA-Fabrik (TU Darmstadt)
CREATED:20251029T120919
LAST-MODIFIED:20251029T135822
DTSTART;VALUE=DATE:20251202T100000
DTEND;VALUE=DATE:20251202T153000
UID:sn_823@logic-works.net
END:VEVENT
END:VCALENDAR