BEGIN:VCALENDAR
METHOD:PUBLISH
PRODID:-//LogicWorks GmbH//NONSGML Contentory//EN
VERSION:2.0
BEGIN:VEVENT
DTSTAMP:20260423T130620Z
SUMMARY:SynErgie-Workshop zum Strommarktdesign
DESCRIPTION:Im „SynErgie-Workshop on Electricity Market Design – Designing Markets
  for Large Shares of Renewables“ diskutieren internationale Wissenschaft
 ler und Praktiker die Gestaltung des zukünftigen Strommarkts in Europa.
LOCATION:Online
CREATED:20210621T105644
LAST-MODIFIED:20210621T141647
DTSTART;VALUE=DATE:20210629T130000
DTEND;VALUE=DATE:20210629T191500
UID:sn_204@logic-works.net
END:VEVENT
END:VCALENDAR