BEGIN:VCALENDAR
METHOD:PUBLISH
PRODID:-//LogicWorks GmbH//NONSGML Contentory//EN
VERSION:2.0
BEGIN:VEVENT
DTSTAMP:20260423T171910Z
SUMMARY:Themenabend: Gut verNetzt?! – Zwischen Energiewende und Versorgungssiche
 rheit
DESCRIPTION:Die Energiewende erfordert Veränderungen: Wir brauchen stabile Netze und 
 müssen neue Stromtrassen\, Umspannwerke und Erzeugungsanlagen bauen. Wie 
 wir die damit verbundenen technischen und gesellschaftlichen Herausforderu
 ngen angehen können\, darum dreht sich der Themenabend „Gut verNetzt?! 
 – Zwischen Energiewende und Versorgungssicherheit“.
LOCATION:TRIANGEL
CREATED:20240202T093145
LAST-MODIFIED:20240202T100106
DTSTART;VALUE=DATE:20240307T180000
DTEND;VALUE=DATE:20240307T235959
UID:sn_446@logic-works.net
END:VEVENT
END:VCALENDAR