BEGIN:VCALENDAR
METHOD:PUBLISH
PRODID:-//LogicWorks GmbH//NONSGML Contentory//EN
VERSION:2.0
BEGIN:VEVENT
DTSTAMP:20260425T125419Z
SUMMARY:Workshop zu Energiesparmaßnahmen in Wohngemeinschaften
DESCRIPTION:Wie können sich Bewohnende von Wohnheimen aktiv an Energiesparmaßnahmen 
 beteiligen? Wie können auch größere Mietergruppen geeignete Maßnahmen 
 identifizieren und gemeinsam umsetzen? Darum geht es im interaktiven Works
 hop mit Constanze Liepold und Paul Fabianek (FCN der RWTH Aachen und betei
 ligt am Kopernikus-Projekt ENSURE).
LOCATION:OecherLab
CREATED:20240124T131614
LAST-MODIFIED:20240216T100403
DTSTART;VALUE=DATE:20240516T180000
DTEND;VALUE=DATE:20240516T210000
UID:sn_443@logic-works.net
END:VEVENT
END:VCALENDAR