BEGIN:VCALENDAR
METHOD:PUBLISH
PRODID:-//LogicWorks GmbH//NONSGML Contentory//EN
VERSION:2.0
BEGIN:VEVENT
DTSTAMP:20260423T130742Z
SUMMARY:EnWG §14a: Kontrollgesetz oder Chance? Ein interaktiver Workshop
DESCRIPTION:Der Workshop ist ein Angebot im Rahmen des Zukunftsraums „Energieversorg
 ung der Zukunft“. Mit Constanze Liepold und Paul Fabianek vom FCN der RW
 TH Aachen und beteiligt am Kopernikus-Projekt ENSURE.
LOCATION:OecherLab
CREATED:20240124T120535
LAST-MODIFIED:20240126T095416
DTSTART;VALUE=DATE:20240219T180000
DTEND;VALUE=DATE:20240219T200000
UID:sn_442@logic-works.net
END:VEVENT
END:VCALENDAR