BEGIN:VCALENDAR
METHOD:PUBLISH
PRODID:-//LogicWorks GmbH//NONSGML Contentory//EN
VERSION:2.0
BEGIN:VEVENT
DTSTAMP:20260423T153230Z
SUMMARY:Online-Workshop zum Thema Wallbox-Sharing
DESCRIPTION:Im Rahmen von ENSURE untersucht das Institut „Future Energy Consumer Nee
 ds and Behaviour“  der RWTH Aachen die Akzeptanz von geteilten Aufladem
 öglichkeiten für E-Autos (Wallbox-Sharing). Dabei wird untersucht\, ob d
 ie Möglichkeit des Wallbox-Sharing als Motivation dienen könnte\, vom Ve
 rbrenner auf das Elektroauto umzusteigen.
LOCATION:online
CREATED:20230613T155820
LAST-MODIFIED:20230704T153027
DTSTART;VALUE=DATE:20230701T090000
DTEND;VALUE=DATE:20230722T140000
UID:sn_394@logic-works.net
END:VEVENT
END:VCALENDAR