BEGIN:VCALENDAR
METHOD:PUBLISH
PRODID:-//LogicWorks GmbH//NONSGML Contentory//EN
VERSION:2.0
BEGIN:VEVENT
DTSTAMP:20260423T153306Z
SUMMARY:Power2Change im Industriemuseum Chemnitz
DESCRIPTION:Die Energiewende von einem abstrakten Begriff zu einem Teil der Lebenswirk
 lichkeit aller Menschen in Deutschland werden zu lassen\, dessen Relevanz 
 sie einordnen können: Auf diese Mission begibt sich die Ausstellung „Po
 wer2Change“ gemeinsam mit ihrem interaktiven Energiemobil.
LOCATION:Industriemuseum Chemnitz
CREATED:20240904T081051
LAST-MODIFIED:20240904T081454
DTSTART;VALUE=DATE:20240924T090000
DTEND;VALUE=DATE:20241201T170000
UID:sn_521@logic-works.net
END:VEVENT
END:VCALENDAR