BEGIN:VCALENDAR
METHOD:PUBLISH
PRODID:-//LogicWorks GmbH//NONSGML Contentory//EN
VERSION:2.0
BEGIN:VEVENT
DTSTAMP:20260423T153423Z
SUMMARY:SynErgie-Workshop zur Energieflexibilität
DESCRIPTION:Wie können Unternehmen in der Produktion auf schwankende Energieverfügba
 rkeiten flexibel reagieren? Welche technologischen Lösungen stehen bereit
 \, um Energie effizienter zu nutzen? Der Workshop „Energieflexibilität 
 in der Produktion“ gibt praxisnahe Antworten auf diese und viele weitere
  Fragen.
LOCATION:ETA-Lernfabrik (L6|03)
CREATED:20241105T122838
LAST-MODIFIED:20241105T130630
DTSTART;VALUE=DATE:20241120T090000
DTEND;VALUE=DATE:20241120T160000
UID:sn_554@logic-works.net
END:VEVENT
END:VCALENDAR